BEGIN:VCALENDAR
VERSION:2.0
CALSCALE:GREGORIAN
PRODID:-//Diputació de Barcelona//DibaCMS//EN
BEGIN:VEVENT
UID:14892
DTSTAMP:20260425T044203
DTSTART:20250427T074500
DTEND:20250427T130000
SUMMARY:4a Caminada popular per Lliçà d'Amunt "La senders lliçanenca" 
LOCATION:Sortida des de la seu de la UEC (c de Barcelona, 25) 
METHOD:PUBLISH
X-WR-CALNAME:ajuntament@llicamunt.cat
X-WR-TIMEZONE:Europe/Madrid
DESCRIPTION:
URI:https://www.llicamunt.cat/actualitat/agenda/4a-caminada-popular-per-llica-damunt-la-senders-llicanenca-.html
CLASS:PUBLIC
END:VEVENT
END:VCALENDAR
