BEGIN:VCALENDAR
VERSION:2.0
CALSCALE:GREGORIAN
PRODID:-//Diputació de Barcelona//DibaCMS//EN
BEGIN:VEVENT
UID:14894
DTSTAMP:20260424T125157
DTSTART:20250130T190000
DTEND:20250130T213000
SUMMARY:Sessió ordinària del Ple Municipal    - duplicat
LOCATION:c. de Folch i Torres, 102 08186   Lliçà d'Amunt
METHOD:PUBLISH
X-WR-CALNAME:ajuntament@llicamunt.cat
X-WR-TIMEZONE:Europe/Madrid
DESCRIPTION:
URI:https://www.llicamunt.cat/actualitat/agenda/sessio-ordinaria-del-ple-municipal-duplicat.html
CLASS:PUBLIC
END:VEVENT
END:VCALENDAR
