BEGIN:VCALENDAR
VERSION:2.0
CALSCALE:GREGORIAN
PRODID:-//Diputació de Barcelona//DibaCMS//EN
BEGIN:VEVENT
UID:14895
DTSTAMP:20260424T194021
DTSTART:20250327T184500
DTEND:20250327T190000
SUMMARY:Sessió extraordinària pública de la Junta de Govern Local 
LOCATION:c. de Folch i Torres, 102 08186   Lliçà d'Amunt
METHOD:PUBLISH
X-WR-CALNAME:ajuntament@llicamunt.cat
X-WR-TIMEZONE:Europe/Madrid
DESCRIPTION:
URI:https://www.llicamunt.cat/actualitat/agenda/14895-sessio-extraordinaria-publica-de-la-junta-de-govern-local-.html
CLASS:PUBLIC
END:VEVENT
END:VCALENDAR
