BEGIN:VCALENDAR
VERSION:2.0
CALSCALE:GREGORIAN
PRODID:-//Diputació de Barcelona//DibaCMS//EN
BEGIN:VEVENT
UID:14898
DTSTAMP:20260425T043416
DTSTART:20250402T180000
DTEND:20250402T193000
SUMMARY:Reunió informativa sobre els Casals d'estiu 2025
LOCATION:c. de Castelló de la Plana, 11 08186   Lliçà d'Amunt
METHOD:PUBLISH
X-WR-CALNAME:ajuntament@llicamunt.cat
X-WR-TIMEZONE:Europe/Madrid
DESCRIPTION:
URI:https://www.llicamunt.cat/actualitat/agenda/reunio-informativa-sobre-els-casals-destiu-2025.html
CLASS:PUBLIC
END:VEVENT
END:VCALENDAR
