BEGIN:VCALENDAR
VERSION:2.0
CALSCALE:GREGORIAN
PRODID:-//Diputació de Barcelona//DibaCMS//EN
BEGIN:VEVENT
UID:14916
DTSTAMP:20260425T042753
DTSTART:20250404T210000
DTEND:20250405T010000
SUMMARY:Nit de salsa i bachata
LOCATION:c. de l'Aliança, 17 08186 Lliçà d'Amunt
METHOD:PUBLISH
X-WR-CALNAME:ajuntament@llicamunt.cat
X-WR-TIMEZONE:Europe/Madrid
DESCRIPTION:
URI:https://www.llicamunt.cat/actualitat/agenda/nit-de-salsa-i-bachata.html
CLASS:PUBLIC
END:VEVENT
END:VCALENDAR
