BEGIN:VCALENDAR
VERSION:2.0
CALSCALE:GREGORIAN
PRODID:-//Diputació de Barcelona//DibaCMS//EN
BEGIN:VEVENT
UID:14917
DTSTAMP:20260425T030403
DTSTART:20250405T090000
DTEND:20250405T120000
SUMMARY:Descobrim Lliçà d'Amunt "Sortida de primavera" 
LOCATION:c. de Castelló de la Plana, 11 08186   Lliçà d'Amunt
METHOD:PUBLISH
X-WR-CALNAME:ajuntament@llicamunt.cat
X-WR-TIMEZONE:Europe/Madrid
DESCRIPTION:
URI:https://www.llicamunt.cat/actualitat/agenda/descobrim-llica-damunt-sortida-de-primavera-.html
CLASS:PUBLIC
END:VEVENT
END:VCALENDAR
