BEGIN:VCALENDAR
VERSION:2.0
CALSCALE:GREGORIAN
PRODID:-//Diputació de Barcelona//DibaCMS//EN
BEGIN:VEVENT
UID:14918
DTSTAMP:20260425T234730
DTSTART:20251005T120000
DTEND:20251005T133000
SUMMARY:Sardanes
LOCATION:Parc del Quiosc 
METHOD:PUBLISH
X-WR-CALNAME:ajuntament@llicamunt.cat
X-WR-TIMEZONE:Europe/Madrid
DESCRIPTION:
URI:https://www.llicamunt.cat/actualitat/agenda/sardanes.html
CLASS:PUBLIC
END:VEVENT
END:VCALENDAR
