BEGIN:VCALENDAR
VERSION:2.0
CALSCALE:GREGORIAN
PRODID:-//Diputació de Barcelona//DibaCMS//EN
BEGIN:VEVENT
UID:14919
DTSTAMP:20260425T013527
DTSTART:20250406T190000
DTEND:20250406T203000
SUMMARY:Teatre "Utopia"
LOCATION:c. de l'Aliança, 17 08186 Lliçà d'Amunt
METHOD:PUBLISH
X-WR-CALNAME:ajuntament@llicamunt.cat
X-WR-TIMEZONE:Europe/Madrid
DESCRIPTION:
URI:https://www.llicamunt.cat/actualitat/agenda/teatre-utopia.html
CLASS:PUBLIC
END:VEVENT
END:VCALENDAR
