BEGIN:VCALENDAR
VERSION:2.0
CALSCALE:GREGORIAN
PRODID:-//Diputació de Barcelona//DibaCMS//EN
BEGIN:VEVENT
UID:14926
DTSTAMP:20260424T231721
DTSTART:20250516T171500
DTEND:20250516T190000
SUMMARY:Taller per a famílies d'habilitats educatives en el bon ús de les pantalles en l'àmbit familiar 
LOCATION:c. de la Fàbrica, s/n 08186 Lliçà d'Amunt
METHOD:PUBLISH
X-WR-CALNAME:ajuntament@llicamunt.cat
X-WR-TIMEZONE:Europe/Madrid
DESCRIPTION:
URI:https://www.llicamunt.cat/actualitat/agenda/taller-per-a-families-dhabilitats-educatives-en-el-bon-us-de-les-pantalles-en-lambit-familiar-.html
CLASS:PUBLIC
END:VEVENT
END:VCALENDAR
