BEGIN:VCALENDAR
VERSION:2.0
CALSCALE:GREGORIAN
PRODID:-//Diputació de Barcelona//DibaCMS//EN
BEGIN:VEVENT
UID:14932
DTSTAMP:20260425T042642
DTSTART:20250519T163000
DTEND:20250519T180000
SUMMARY:Taller Feina ON: Activa el teu estiu 
LOCATION:c. de Castelló de la Plana, 11 08186   Lliçà d'Amunt
METHOD:PUBLISH
X-WR-CALNAME:ajuntament@llicamunt.cat
X-WR-TIMEZONE:Europe/Madrid
DESCRIPTION:
URI:https://www.llicamunt.cat/actualitat/agenda/taller-feina-on-activa-el-teu-estiu-.html
CLASS:PUBLIC
END:VEVENT
END:VCALENDAR
