BEGIN:VCALENDAR
VERSION:2.0
CALSCALE:GREGORIAN
PRODID:-//Diputació de Barcelona//DibaCMS//EN
BEGIN:VEVENT
UID:14938
DTSTAMP:20260425T003344
DTSTART:20250506T180000
DTEND:20250506T200000
SUMMARY:Parlem-ne!: Taller de cuina infantil - berenars bons i saludables
LOCATION:Carrer de la Ribera d'Ebre, 81, planta baja 08186   Lliçà d'Amunt
METHOD:PUBLISH
X-WR-CALNAME:ajuntament@llicamunt.cat
X-WR-TIMEZONE:Europe/Madrid
DESCRIPTION:
URI:https://www.llicamunt.cat/actualitat/agenda/parlem-ne-taller-de-cuina-infantil-berenars-bons-i-saludables.html
CLASS:PUBLIC
END:VEVENT
END:VCALENDAR
