BEGIN:VCALENDAR
VERSION:2.0
CALSCALE:GREGORIAN
PRODID:-//Diputació de Barcelona//DibaCMS//EN
BEGIN:VEVENT
UID:14939
DTSTAMP:20260425T020425
DTSTART:20250507T180000
DTEND:20250507T200000
SUMMARY:Parlem-ne!: Taller de cuina infantil - fem llaminadures saludables
LOCATION:c. del Segre, 65 (Palaudàries) 08186   Lliçà d'Amunt
METHOD:PUBLISH
X-WR-CALNAME:ajuntament@llicamunt.cat
X-WR-TIMEZONE:Europe/Madrid
DESCRIPTION:
URI:https://www.llicamunt.cat/actualitat/agenda/parlem-ne-taller-de-cuina-infantil-fem-llaminadures-saludables.html
CLASS:PUBLIC
END:VEVENT
END:VCALENDAR
