BEGIN:VCALENDAR
VERSION:2.0
CALSCALE:GREGORIAN
PRODID:-//Diputació de Barcelona//DibaCMS//EN
BEGIN:VEVENT
UID:14943
DTSTAMP:20260425T013329
DTSTART:20250414T000000
DTEND:20250426T000000
SUMMARY:"Busca el teu Sant Jordi a CIS Lliçà"
LOCATION:
METHOD:PUBLISH
X-WR-CALNAME:ajuntament@llicamunt.cat
X-WR-TIMEZONE:Europe/Madrid
DESCRIPTION:
URI:https://www.llicamunt.cat/actualitat/agenda/14943-busca-el-teu-sant-jordi-a-cis-llica.html
CLASS:PUBLIC
END:VEVENT
END:VCALENDAR
