BEGIN:VCALENDAR
VERSION:2.0
CALSCALE:GREGORIAN
PRODID:-//Diputació de Barcelona//DibaCMS//EN
BEGIN:VEVENT
UID:14948
DTSTAMP:20260425T042458
DTSTART:20250420T120000
DTEND:20250420T235900
SUMMARY:Holy Bass
LOCATION:c. de la Fàbrica, s/n 08186 Lliçà d'Amunt
METHOD:PUBLISH
X-WR-CALNAME:ajuntament@llicamunt.cat
X-WR-TIMEZONE:Europe/Madrid
DESCRIPTION:
URI:https://www.llicamunt.cat/actualitat/agenda/holy-bass.html
CLASS:PUBLIC
END:VEVENT
END:VCALENDAR
