BEGIN:VCALENDAR
VERSION:2.0
CALSCALE:GREGORIAN
PRODID:-//Diputació de Barcelona//DibaCMS//EN
BEGIN:VEVENT
UID:14957
DTSTAMP:20260424T212939
DTSTART:20250424T183000
DTEND:20250424T200000
SUMMARY:Espectacle literari "Nocturnes"
LOCATION:c. de Castelló de la Plana, 11 08186   Lliçà d'Amunt
METHOD:PUBLISH
X-WR-CALNAME:ajuntament@llicamunt.cat
X-WR-TIMEZONE:Europe/Madrid
DESCRIPTION:
URI:https://www.llicamunt.cat/actualitat/agenda/espectacle-literari-nocturnes.html
CLASS:PUBLIC
END:VEVENT
END:VCALENDAR
