BEGIN:VCALENDAR
VERSION:2.0
CALSCALE:GREGORIAN
PRODID:-//Diputació de Barcelona//DibaCMS//EN
BEGIN:VEVENT
UID:14958
DTSTAMP:20260425T153050
DTSTART:20250425T173000
DTEND:20250425T193000
SUMMARY:Tarda de "Crash nitro"
LOCATION:C/Castelló de la Plana, 11 08186   Lliçà d'Amunt
METHOD:PUBLISH
X-WR-CALNAME:ajuntament@llicamunt.cat
X-WR-TIMEZONE:Europe/Madrid
DESCRIPTION:
URI:https://www.llicamunt.cat/actualitat/agenda/tarda-de-crash-nitro.html
CLASS:PUBLIC
END:VEVENT
END:VCALENDAR
