BEGIN:VCALENDAR
VERSION:2.0
CALSCALE:GREGORIAN
PRODID:-//Diputació de Barcelona//DibaCMS//EN
BEGIN:VEVENT
UID:14962
DTSTAMP:20260425T054920
DTSTART:20250426T163000
DTEND:20250426T223000
SUMMARY:Celebració de la festivitat de Sant Jordi
LOCATION:Aparcament del carrer de l'Aliança 
METHOD:PUBLISH
X-WR-CALNAME:ajuntament@llicamunt.cat
X-WR-TIMEZONE:Europe/Madrid
DESCRIPTION:
URI:https://www.llicamunt.cat/actualitat/agenda/14962-celebracio-de-la-festivitat-de-sant-jordi.html
CLASS:PUBLIC
END:VEVENT
END:VCALENDAR
