BEGIN:VCALENDAR
VERSION:2.0
CALSCALE:GREGORIAN
PRODID:-//Diputació de Barcelona//DibaCMS//EN
BEGIN:VEVENT
UID:14963
DTSTAMP:20260425T024003
DTSTART:20250427T110000
DTEND:20250427T130000
SUMMARY:Ball de la Roda
LOCATION:Aparcament del carrer de l'Aliança 
METHOD:PUBLISH
X-WR-CALNAME:ajuntament@llicamunt.cat
X-WR-TIMEZONE:Europe/Madrid
DESCRIPTION:
URI:https://www.llicamunt.cat/actualitat/agenda/ball-de-la-roda.html
CLASS:PUBLIC
END:VEVENT
END:VCALENDAR
