BEGIN:VCALENDAR
VERSION:2.0
CALSCALE:GREGORIAN
PRODID:-//Diputació de Barcelona//DibaCMS//EN
BEGIN:VEVENT
UID:14965
DTSTAMP:20260425T030301
DTSTART:20250428T173000
DTEND:20250428T193000
SUMMARY:Club de lectura familiar "El binomi fantàstic" 
LOCATION:c. de Castelló de la Plana, 11 08186   Lliçà d'Amunt
METHOD:PUBLISH
X-WR-CALNAME:ajuntament@llicamunt.cat
X-WR-TIMEZONE:Europe/Madrid
DESCRIPTION:
URI:https://www.llicamunt.cat/actualitat/agenda/14965-club-de-lectura-familiar-el-binomi-fantastic-.html
CLASS:PUBLIC
END:VEVENT
END:VCALENDAR
