BEGIN:VCALENDAR
VERSION:2.0
CALSCALE:GREGORIAN
PRODID:-//Diputació de Barcelona//DibaCMS//EN
BEGIN:VEVENT
UID:14966
DTSTAMP:20260425T030331
DTSTART:20250429T183000
DTEND:20250429T200000
SUMMARY:Parlem-ne!: Les claus de la tranquil·litat financera
LOCATION:Carrer de la Ribera d'Ebre, 81, planta baja 08186   Lliçà d'Amunt
METHOD:PUBLISH
X-WR-CALNAME:ajuntament@llicamunt.cat
X-WR-TIMEZONE:Europe/Madrid
DESCRIPTION:
URI:https://www.llicamunt.cat/actualitat/agenda/parlem-ne-les-claus-de-la-tranquillitat-financera.html
CLASS:PUBLIC
END:VEVENT
END:VCALENDAR
