BEGIN:VCALENDAR
VERSION:2.0
CALSCALE:GREGORIAN
PRODID:-//Diputació de Barcelona//DibaCMS//EN
BEGIN:VEVENT
UID:14967
DTSTAMP:20260425T025139
DTSTART:20250429T173000
DTEND:20250429T200000
SUMMARY:Taller creatiu: Punt de llibre aromàtic
LOCATION:
METHOD:PUBLISH
X-WR-CALNAME:ajuntament@llicamunt.cat
X-WR-TIMEZONE:Europe/Madrid
DESCRIPTION:
URI:https://www.llicamunt.cat/actualitat/agenda/taller-creatiu-punt-de-llibre-aromatic.html
CLASS:PUBLIC
END:VEVENT
END:VCALENDAR
