BEGIN:VCALENDAR
VERSION:2.0
CALSCALE:GREGORIAN
PRODID:-//Diputació de Barcelona//DibaCMS//EN
BEGIN:VEVENT
UID:14983
DTSTAMP:20260425T043717
DTSTART:20250528T173000
DTEND:20250528T190000
SUMMARY:Parlem-ne!: Menopausa, la falsa crisi dels 50
LOCATION:c. del Segre, 65 (Palaudàries) 08186   Lliçà d'Amunt
METHOD:PUBLISH
X-WR-CALNAME:ajuntament@llicamunt.cat
X-WR-TIMEZONE:Europe/Madrid
DESCRIPTION:
URI:https://www.llicamunt.cat/actualitat/agenda/parlem-ne-menopausa-la-falsa-crisi-dels-50.html
CLASS:PUBLIC
END:VEVENT
END:VCALENDAR
