BEGIN:VCALENDAR
VERSION:2.0
CALSCALE:GREGORIAN
PRODID:-//Diputació de Barcelona//DibaCMS//EN
BEGIN:VEVENT
UID:14988
DTSTAMP:20260425T003518
DTSTART:20250510T083000
DTEND:20250510T133000
SUMMARY:4a Caminada-cursa popular "Camins i senders de Lliçà d’Amunt. Caminar i córrer"
LOCATION:Av. Països Catalans, s/n 08186   Lliçà d'Amunt
METHOD:PUBLISH
X-WR-CALNAME:ajuntament@llicamunt.cat
X-WR-TIMEZONE:Europe/Madrid
DESCRIPTION:
URI:https://www.llicamunt.cat/actualitat/agenda/14988-4a-caminada-cursa-popular-camins-i-senders-de-llica-damunt-caminar-i-correr.html
CLASS:PUBLIC
END:VEVENT
END:VCALENDAR
