BEGIN:VCALENDAR
VERSION:2.0
CALSCALE:GREGORIAN
PRODID:-//Diputació de Barcelona//DibaCMS//EN
BEGIN:VEVENT
UID:14989
DTSTAMP:20260425T002225
DTSTART:20250510T110000
DTEND:20250510T120000
SUMMARY:Laboratori de lectura "Les flors del meu jardí"
LOCATION:c. de Castelló de la Plana, 11 08186   Lliçà d'Amunt
METHOD:PUBLISH
X-WR-CALNAME:ajuntament@llicamunt.cat
X-WR-TIMEZONE:Europe/Madrid
DESCRIPTION:
URI:https://www.llicamunt.cat/actualitat/agenda/laboratori-de-lectura-les-flors-del-meu-jardi.html
CLASS:PUBLIC
END:VEVENT
END:VCALENDAR
