BEGIN:VCALENDAR
VERSION:2.0
CALSCALE:GREGORIAN
PRODID:-//Diputació de Barcelona//DibaCMS//EN
BEGIN:VEVENT
UID:14990
DTSTAMP:20260425T042332
DTSTART:20250511T000000
DTEND:20250511T000000
SUMMARY:Dinar de germanor "50 anys de la UEC"
LOCATION:
METHOD:PUBLISH
X-WR-CALNAME:ajuntament@llicamunt.cat
X-WR-TIMEZONE:Europe/Madrid
DESCRIPTION:
URI:https://www.llicamunt.cat/actualitat/agenda/dinar-de-germanor-50-anys-de-la-uec.html
CLASS:PUBLIC
END:VEVENT
END:VCALENDAR
