BEGIN:VCALENDAR
VERSION:2.0
CALSCALE:GREGORIAN
PRODID:-//Diputació de Barcelona//DibaCMS//EN
BEGIN:VEVENT
UID:14991
DTSTAMP:20260425T044113
DTSTART:20250512T170000
DTEND:20250512T190000
SUMMARY:Portes obertes dels Cicles formatius i el PFI
LOCATION:Edifici de l'INS Lliçà del carrer de Jaume I, 15-45 
METHOD:PUBLISH
X-WR-CALNAME:ajuntament@llicamunt.cat
X-WR-TIMEZONE:Europe/Madrid
DESCRIPTION:
URI:https://www.llicamunt.cat/actualitat/agenda/portes-obertes-dels-cicles-formatius-i-el-pfi.html
CLASS:PUBLIC
END:VEVENT
END:VCALENDAR
