BEGIN:VCALENDAR
VERSION:2.0
CALSCALE:GREGORIAN
PRODID:-//Diputació de Barcelona//DibaCMS//EN
BEGIN:VEVENT
UID:14997
DTSTAMP:20260425T002245
DTSTART:20250517T100000
DTEND:20250517T100000
SUMMARY:9è aniverari Nostálgicos del Mazinger Z 
LOCATION:Pista esportiva de Palaudalba 
METHOD:PUBLISH
X-WR-CALNAME:ajuntament@llicamunt.cat
X-WR-TIMEZONE:Europe/Madrid
DESCRIPTION:
URI:https://www.llicamunt.cat/actualitat/agenda/9e-aniverari-nostalgicos-del-mazinger-z-.html
CLASS:PUBLIC
END:VEVENT
END:VCALENDAR
