BEGIN:VCALENDAR
VERSION:2.0
CALSCALE:GREGORIAN
PRODID:-//Diputació de Barcelona//DibaCMS//EN
BEGIN:VEVENT
UID:14998
DTSTAMP:20260425T033139
DTSTART:20250517T110000
DTEND:20250517T130000
SUMMARY:Niu de paraules "La vida secreta de les formigues"
LOCATION:c. de Castelló de la Plana, 11 08186   Lliçà d'Amunt
METHOD:PUBLISH
X-WR-CALNAME:ajuntament@llicamunt.cat
X-WR-TIMEZONE:Europe/Madrid
DESCRIPTION:
URI:https://www.llicamunt.cat/actualitat/agenda/niu-de-paraules-la-vida-secreta-de-les-formigues.html
CLASS:PUBLIC
END:VEVENT
END:VCALENDAR
