BEGIN:VCALENDAR
VERSION:2.0
CALSCALE:GREGORIAN
PRODID:-//Diputació de Barcelona//DibaCMS//EN
BEGIN:VEVENT
UID:14999
DTSTAMP:20260425T062602
DTSTART:20250521T100000
DTEND:20250521T120000
SUMMARY:III Fira de Mostres de Robòtica i Steam
LOCATION:
METHOD:PUBLISH
X-WR-CALNAME:ajuntament@llicamunt.cat
X-WR-TIMEZONE:Europe/Madrid
DESCRIPTION:
URI:https://www.llicamunt.cat/actualitat/agenda/iii-fira-de-mostres-de-robotica-i-steam.html
CLASS:PUBLIC
END:VEVENT
END:VCALENDAR
