BEGIN:VCALENDAR
VERSION:2.0
CALSCALE:GREGORIAN
PRODID:-//Diputació de Barcelona//DibaCMS//EN
BEGIN:VEVENT
UID:15036
DTSTAMP:20260425T043940
DTSTART:20250529T100000
DTEND:20250529T120000
SUMMARY:Agenda SEOVT - Taller pràctic sobre Linked in
LOCATION:Plaça de la Vila, s/n, 2a planta 08186 Lliçà de Vall
METHOD:PUBLISH
X-WR-CALNAME:ajuntament@llicamunt.cat
X-WR-TIMEZONE:Europe/Madrid
DESCRIPTION:
URI:https://www.llicamunt.cat/actualitat/agenda/agenda-seovt-taller-practic-sobre-linked-in.html
CLASS:PUBLIC
END:VEVENT
END:VCALENDAR
