BEGIN:VCALENDAR
VERSION:2.0
CALSCALE:GREGORIAN
PRODID:-//Diputació de Barcelona//DibaCMS//EN
BEGIN:VEVENT
UID:15101
DTSTAMP:20260421T225239
DTSTART:20250914T180000
DTEND:20250914T193000
SUMMARY:"Bona gent" de Quim Masferrer
LOCATION:c. de Jaume I, 30 08186   Lliçà d'Amunt
METHOD:PUBLISH
X-WR-CALNAME:ajuntament@llicamunt.cat
X-WR-TIMEZONE:Europe/Madrid
DESCRIPTION:
URI:https://www.llicamunt.cat/actualitat/agenda/bona-gent-de-quim-masferrer.html
CLASS:PUBLIC
END:VEVENT
END:VCALENDAR
