BEGIN:VCALENDAR
VERSION:2.0
CALSCALE:GREGORIAN
PRODID:-//Diputació de Barcelona//DibaCMS//EN
BEGIN:VEVENT
UID:15105
DTSTAMP:20260425T152859
DTSTART:20250713T183000
DTEND:20250713T203000
SUMMARY:Aplec de Santa Justa 
LOCATION:Aquesta ermita s’alça a l’esquerra de la riera de Tenes, a l’extrem nord del terme i prop de la carretera de Caldes a Granollers. 
METHOD:PUBLISH
X-WR-CALNAME:ajuntament@llicamunt.cat
X-WR-TIMEZONE:Europe/Madrid
DESCRIPTION:
URI:https://www.llicamunt.cat/actualitat/agenda/aplec-de-santa-justa-.html
CLASS:PUBLIC
END:VEVENT
END:VCALENDAR
