BEGIN:VCALENDAR
VERSION:2.0
CALSCALE:GREGORIAN
PRODID:-//Diputació de Barcelona//DibaCMS//EN
BEGIN:VEVENT
UID:15138
DTSTAMP:20260425T153106
DTSTART:20250712T090000
DTEND:20250712T130000
SUMMARY:"I aniversario Guardians"
LOCATION:Parc de la Mandarina 
METHOD:PUBLISH
X-WR-CALNAME:ajuntament@llicamunt.cat
X-WR-TIMEZONE:Europe/Madrid
DESCRIPTION:
URI:https://www.llicamunt.cat/actualitat/agenda/i-aniversario-guardians.html
CLASS:PUBLIC
END:VEVENT
END:VCALENDAR
