BEGIN:VCALENDAR
VERSION:2.0
CALSCALE:GREGORIAN
PRODID:-//Diputació de Barcelona//DibaCMS//EN
BEGIN:VEVENT
UID:15149
DTSTAMP:20260425T153351
DTSTART:20250721T080000
DTEND:20250721T180000
SUMMARY:Sortida a Manresa per a la gent gran
LOCATION:Sortida davant de l'Institut Lliçà  
METHOD:PUBLISH
X-WR-CALNAME:ajuntament@llicamunt.cat
X-WR-TIMEZONE:Europe/Madrid
DESCRIPTION:
URI:https://www.llicamunt.cat/actualitat/agenda/sortida-a-manresa-per-a-la-gent-gran.html
CLASS:PUBLIC
END:VEVENT
END:VCALENDAR
