BEGIN:VCALENDAR
VERSION:2.0
CALSCALE:GREGORIAN
PRODID:-//Diputació de Barcelona//DibaCMS//EN
BEGIN:VEVENT
UID:15165
DTSTAMP:20260421T230814
DTSTART:20250911T120000
DTEND:20250911T130000
SUMMARY:Tast de vins de la Festa Major 2025
LOCATION:c. de Castelló de la Plana, 11 08186   Lliçà d'Amunt
METHOD:PUBLISH
X-WR-CALNAME:ajuntament@llicamunt.cat
X-WR-TIMEZONE:Europe/Madrid
DESCRIPTION:
URI:https://www.llicamunt.cat/actualitat/agenda/tast-de-vins-de-la-festa-major-2025.html
CLASS:PUBLIC
END:VEVENT
END:VCALENDAR
