BEGIN:VCALENDAR
VERSION:2.0
CALSCALE:GREGORIAN
PRODID:-//Diputació de Barcelona//DibaCMS//EN
BEGIN:VEVENT
UID:15166
DTSTAMP:20260421T225708
DTSTART:20250914T110000
DTEND:20250914T130000
SUMMARY:La cursa en bicicleta més lenta del planeta
LOCATION:Carrer de Can Roure, 2-10 08186   Lliçà d'Amunt
METHOD:PUBLISH
X-WR-CALNAME:ajuntament@llicamunt.cat
X-WR-TIMEZONE:Europe/Madrid
DESCRIPTION:
URI:https://www.llicamunt.cat/actualitat/agenda/cursa-de-la-bicicleta-mes-lenta-del-mon.html
CLASS:PUBLIC
END:VEVENT
END:VCALENDAR
