BEGIN:VCALENDAR
VERSION:2.0
CALSCALE:GREGORIAN
PRODID:-//Diputació de Barcelona//DibaCMS//EN
BEGIN:VEVENT
UID:15196
DTSTAMP:20260421T223954
DTSTART:20250912T090000
DTEND:20250912T120000
SUMMARY:Missió Lliçà: La ruta dels detectius - Especial Festa Major
LOCATION:
METHOD:PUBLISH
X-WR-CALNAME:ajuntament@llicamunt.cat
X-WR-TIMEZONE:Europe/Madrid
DESCRIPTION:
URI:https://www.llicamunt.cat/actualitat/agenda/ruta-dels-detectius-especial-festa-major-2025.html
CLASS:PUBLIC
END:VEVENT
END:VCALENDAR
