BEGIN:VCALENDAR
VERSION:2.0
CALSCALE:GREGORIAN
PRODID:-//Diputació de Barcelona//DibaCMS//EN
BEGIN:VEVENT
UID:15198
DTSTAMP:20260425T135911
DTSTART:20250908T173000
DTEND:20250908T183000
SUMMARY:Taller: La llibreta de la Biblio
LOCATION:c. de Castelló de la Plana, 11 08186   Lliçà d'Amunt
METHOD:PUBLISH
X-WR-CALNAME:ajuntament@llicamunt.cat
X-WR-TIMEZONE:Europe/Madrid
DESCRIPTION:
URI:https://www.llicamunt.cat/actualitat/agenda/taller-la-llibreta-de-la-biblio.html
CLASS:PUBLIC
END:VEVENT
END:VCALENDAR
