BEGIN:VCALENDAR
VERSION:2.0
CALSCALE:GREGORIAN
PRODID:-//Diputació de Barcelona//DibaCMS//EN
BEGIN:VEVENT
UID:15206
DTSTAMP:20260425T152913
DTSTART:20250920T110000
DTEND:20250920T123000
SUMMARY:Contes de gegants
LOCATION:c. de Castelló de la Plana, 11 08186   Lliçà d'Amunt
METHOD:PUBLISH
X-WR-CALNAME:ajuntament@llicamunt.cat
X-WR-TIMEZONE:Europe/Madrid
DESCRIPTION:
URI:https://www.llicamunt.cat/actualitat/agenda/contes-de-gegants.html
CLASS:PUBLIC
END:VEVENT
END:VCALENDAR
