BEGIN:VCALENDAR
VERSION:2.0
CALSCALE:GREGORIAN
PRODID:-//Diputació de Barcelona//DibaCMS//EN
BEGIN:VEVENT
UID:15207
DTSTAMP:20260425T153432
DTSTART:20250925T180000
DTEND:20250925T200000
SUMMARY:Taller d'hipnosi meditativa per al benestar holístic
LOCATION:c. de Castelló de la Plana, 11 08186   Lliçà d'Amunt
METHOD:PUBLISH
X-WR-CALNAME:ajuntament@llicamunt.cat
X-WR-TIMEZONE:Europe/Madrid
DESCRIPTION:
URI:https://www.llicamunt.cat/actualitat/agenda/taller-dhipnosi-meditativa-per-al-benestar-holistic.html
CLASS:PUBLIC
END:VEVENT
END:VCALENDAR
