BEGIN:VCALENDAR
VERSION:2.0
CALSCALE:GREGORIAN
PRODID:-//Diputació de Barcelona//DibaCMS//EN
BEGIN:VEVENT
UID:15208
DTSTAMP:20260425T170400
DTSTART:20250930T180000
DTEND:20250930T180000
SUMMARY:Curs ACTIC nivell mitjà  
LOCATION:c. de Castelló de la Plana, 11 08186   Lliçà d'Amunt
METHOD:PUBLISH
X-WR-CALNAME:ajuntament@llicamunt.cat
X-WR-TIMEZONE:Europe/Madrid
DESCRIPTION:
URI:https://www.llicamunt.cat/actualitat/agenda/15208-curs-actic-nivell-mitja-.html
CLASS:PUBLIC
END:VEVENT
END:VCALENDAR
