BEGIN:VCALENDAR
VERSION:2.0
CALSCALE:GREGORIAN
PRODID:-//Diputació de Barcelona//DibaCMS//EN
BEGIN:VEVENT
UID:15209
DTSTAMP:20260425T194409
DTSTART:20250907T090000
DTEND:20250907T120000
SUMMARY:Copa Catalana de Pumptrack 2025
LOCATION:Carretera de Palaudàries, 82 (al costat de la pista poliesportiva de Palaudalba) 08186 Lliçà d'Amunt
METHOD:PUBLISH
X-WR-CALNAME:ajuntament@llicamunt.cat
X-WR-TIMEZONE:Europe/Madrid
DESCRIPTION:
URI:https://www.llicamunt.cat/actualitat/agenda/copa-catalana-de-pumptrack-2025.html
CLASS:PUBLIC
END:VEVENT
END:VCALENDAR
