BEGIN:VCALENDAR
VERSION:2.0
CALSCALE:GREGORIAN
PRODID:-//Diputació de Barcelona//DibaCMS//EN
BEGIN:VEVENT
UID:15216
DTSTAMP:20260425T124110
DTSTART:20250908T100000
DTEND:20250908T200000
SUMMARY:"Festa Major, fes-te donant"
LOCATION:c. de Castelló de la Plana, 11 08186   Lliçà d'Amunt
METHOD:PUBLISH
X-WR-CALNAME:ajuntament@llicamunt.cat
X-WR-TIMEZONE:Europe/Madrid
DESCRIPTION:
URI:https://www.llicamunt.cat/actualitat/agenda/festa-major-fes-te-donant.html
CLASS:PUBLIC
END:VEVENT
END:VCALENDAR
