BEGIN:VCALENDAR
VERSION:2.0
CALSCALE:GREGORIAN
PRODID:-//Diputació de Barcelona//DibaCMS//EN
BEGIN:VEVENT
UID:15221
DTSTAMP:20260425T142058
DTSTART:20250906T170000
DTEND:20250907T020000
SUMMARY:Jornada reivindicativa "No hi ha soroll però hi ha 24 Hores"
LOCATION:Pinar de la Riera 
METHOD:PUBLISH
X-WR-CALNAME:ajuntament@llicamunt.cat
X-WR-TIMEZONE:Europe/Madrid
DESCRIPTION:
URI:https://www.llicamunt.cat/actualitat/agenda/jornada-reivindicativa-no-hi-ha-soroll-pero-hi-ha-24-hores.html
CLASS:PUBLIC
END:VEVENT
END:VCALENDAR
