BEGIN:VCALENDAR
VERSION:2.0
CALSCALE:GREGORIAN
PRODID:-//Diputació de Barcelona//DibaCMS//EN
BEGIN:VEVENT
UID:15222
DTSTAMP:20260425T123251
DTSTART:20250906T000000
DTEND:20250907T000000
SUMMARY:Agenda FM: Dissabte 6 i diumenge 7
LOCATION:
METHOD:PUBLISH
X-WR-CALNAME:ajuntament@llicamunt.cat
X-WR-TIMEZONE:Europe/Madrid
DESCRIPTION:
URI:https://www.llicamunt.cat/actualitat/agenda/agenda-fm-dissabte-6-i-diumenge-7.html
CLASS:PUBLIC
END:VEVENT
END:VCALENDAR
