BEGIN:VCALENDAR
VERSION:2.0
CALSCALE:GREGORIAN
PRODID:-//Diputació de Barcelona//DibaCMS//EN
BEGIN:VEVENT
UID:15223
DTSTAMP:20260425T135942
DTSTART:20250908T000000
DTEND:20250908T235900
SUMMARY:Agenda FM: Dilluns 8
LOCATION:
METHOD:PUBLISH
X-WR-CALNAME:ajuntament@llicamunt.cat
X-WR-TIMEZONE:Europe/Madrid
DESCRIPTION:
URI:https://www.llicamunt.cat/actualitat/agenda/agenda-fm-dilluns-8.html
CLASS:PUBLIC
END:VEVENT
END:VCALENDAR
