BEGIN:VCALENDAR
VERSION:2.0
CALSCALE:GREGORIAN
PRODID:-//Diputació de Barcelona//DibaCMS//EN
BEGIN:VEVENT
UID:15256
DTSTAMP:20260426T003305
DTSTART:20251025T110000
DTEND:20251025T130000
SUMMARY:Contes al vol: B.O.M. Contes de bruixes, ogres i monstres
LOCATION:c. de Castelló de la Plana, 11 08186   Lliçà d'Amunt
METHOD:PUBLISH
X-WR-CALNAME:ajuntament@llicamunt.cat
X-WR-TIMEZONE:Europe/Madrid
DESCRIPTION:
URI:https://www.llicamunt.cat/actualitat/agenda/contes-al-vol-bom-contes-de-bruixes-ogres-i-monstres.html
CLASS:PUBLIC
END:VEVENT
END:VCALENDAR
