BEGIN:VCALENDAR
VERSION:2.0
CALSCALE:GREGORIAN
PRODID:-//Diputació de Barcelona//DibaCMS//EN
BEGIN:VEVENT
UID:15260
DTSTAMP:20260425T200710
DTSTART:20251003T190000
DTEND:20251003T203000
SUMMARY:100 anys de l’Aliança, fem-ne memòria (part I 1925-1975)
LOCATION:c. de l'Aliança, 17 08186 Lliçà d'Amunt
METHOD:PUBLISH
X-WR-CALNAME:ajuntament@llicamunt.cat
X-WR-TIMEZONE:Europe/Madrid
DESCRIPTION:Acte en el marc de la commemoració del Centenari de l'Ateneu L'Aliança.

URI:https://www.llicamunt.cat/actualitat/agenda/100-anys-de-lalianca-fem-ne-memoria-part-i-1925-1975.html
CLASS:PUBLIC
END:VEVENT
END:VCALENDAR
