BEGIN:VCALENDAR
VERSION:2.0
CALSCALE:GREGORIAN
PRODID:-//Diputació de Barcelona//DibaCMS//EN
BEGIN:VEVENT
UID:15261
DTSTAMP:20260425T205136
DTSTART:20251004T203000
DTEND:20251004T223000
SUMMARY:Sopar solidari "Germana't"
LOCATION:c. de l'Aliança, 17 08186 Lliçà d'Amunt
METHOD:PUBLISH
X-WR-CALNAME:ajuntament@llicamunt.cat
X-WR-TIMEZONE:Europe/Madrid
DESCRIPTION:
URI:https://www.llicamunt.cat/actualitat/agenda/sopar-solidari-germanat.html
CLASS:PUBLIC
END:VEVENT
END:VCALENDAR
