BEGIN:VCALENDAR
VERSION:2.0
CALSCALE:GREGORIAN
PRODID:-//Diputació de Barcelona//DibaCMS//EN
BEGIN:VEVENT
UID:15262
DTSTAMP:20260425T184839
DTSTART:20251007T173000
DTEND:20251007T193000
SUMMARY:Decoració de Halloween al Galliner  
LOCATION:C/Castelló de la Plana, 11 08186   Lliçà d'Amunt
METHOD:PUBLISH
X-WR-CALNAME:ajuntament@llicamunt.cat
X-WR-TIMEZONE:Europe/Madrid
DESCRIPTION:
URI:https://www.llicamunt.cat/actualitat/agenda/15262-decoracio-de-halloween-al-galliner-.html
CLASS:PUBLIC
END:VEVENT
END:VCALENDAR
